BEGIN:VCALENDAR
VERSION:2.0
PRODID:-//eventon.com NONSGML v1.0//EN
CALSCALE:GREGORIAN
METHOD:PUBLISH
BEGIN:VEVENT
UID:69e7686dd3d48
DTSTAMP:20260421T120709Z
DTSTART:20210604T190000Z
DTEND:20210604T215000Z
LOCATION:Tango am Meer HRO Tango am Meer\,  Alter Markt 19\,  18055 Rostock
SUMMARY:Welcome - Milonga
DESCRIPTION:Auftakt für das schöne Milonga-Workshop-Wochenende mit Susann
 e Opitz &amp; Rafael Busch bei Tango am Meer Diese Wochenenden bei Tango am
  Meer sind schnell ausgebucht. Informiert Euch hier:&nbsp;www.tangoammeer.d
 e/ Immer am 3. Samstag im Monat legen Euch die Haus – DJs oder eingeladen
 e gefeierte DJs ihre schönsten Tanda-Mixturen auf.Musikauswahl: traditione
 ll (mind. 80[..]\nhttps://www.tangoammeer.de/events/welcome-milonga/
URL:https://www.tangoammeer.de/events/welcome-milonga/
END:VEVENT
END:VCALENDAR