BEGIN:VCALENDAR
VERSION:2.0
PRODID:-//eventon.com NONSGML v1.0//EN
CALSCALE:GREGORIAN
METHOD:PUBLISH
BEGIN:VEVENT
UID:69e6b0698a530
DTSTAMP:20260420T230201Z
DTSTART:20210813T183000Z
DTEND:20210813T213000Z
LOCATION:MS Stubnitz Museumshafen Greifswald\,  Salinenstraße
SUMMARY:Greifswalder Hafentango an Bord: Tango Abend MS Stubnitz
DESCRIPTION:Hafentango geht an Bord: Am Freitag\,  dem 13.08.\,  lädt die 
 MS Stubnitz ab 20.30 Uhr zum Tango ein. Der Liegeplatz des Schiffes ist im 
 Greifswalder Museumshafen\,  Nordufer\,  östlich der Fußgängerbrücke. G
 etanzt wird auf dem Oberdeck (also draußen). Von klassischem Tango bis Nue
 vo. Eintritt frei. Die Schiffsbar ist geöffnet.\nhttps://www.tangoammeer.d
 e/events/greifswalder-hafentango-an-bord-tango-abend-ms-stubnitz/
URL:https://www.tangoammeer.de/events/greifswalder-hafentango-an-bord-tango-abend-ms-stubnitz/
END:VEVENT
END:VCALENDAR