BEGIN:VCALENDAR
VERSION:2.0
PRODID:-//eventon.com NONSGML v1.0//EN
CALSCALE:GREGORIAN
METHOD:PUBLISH
BEGIN:VEVENT
UID:69e5e51fcf5a6
DTSTAMP:20260420T083439Z
DTSTART:20211031T190000Z
DTEND:20211031T223000Z
LOCATION:Ballhaus Goldfisch BahnhofstraÃŸe 44\,  17489 Greifswald
SUMMARY:Milonga Sorpresa
DESCRIPTION:Die Milonga zum Wochenabschluss im groÃŸen Saal des Ballhaus Go
 ldfisch. Aufgelegt wird die ganze Vielfalt des Tango &#8211; klassische Tan
 gos\,  garniert mit Neo-/Nontango. Hygienekonzept: 3G (kann sich durch behÃ
 ¶rdliche Auflagen Ã¤ndern)\nhttps://www.tangoammeer.de/events/milonga-sorpr
 esa-3/
URL:https://www.tangoammeer.de/events/milonga-sorpresa-3/
END:VEVENT
END:VCALENDAR