BEGIN:VCALENDAR
VERSION:2.0
PRODID:-//eventon.com NONSGML v1.0//EN
CALSCALE:GREGORIAN
METHOD:PUBLISH
BEGIN:VEVENT
UID:69eb6a5d304ec
DTSTAMP:20260424T130429Z
DTSTART:20220410T130000Z
DTEND:20220410T170000Z
LOCATION:Ataraxia - Musik und Kunstschule Arsenalstr. 8\,  19055 Schwerin
SUMMARY:ErÃ¶ffnung Milonga â€žLa Gaviotaâ€œ Schwerin
DESCRIPTION:Mit Gast-DJ Michael Ruehl aus Berlin! Und einer wunderschÃ¶nen 
 regionalen Live-Musikeinlage (Tango Argentino! &#8230; Ãœberraschung ;-) Wi
 r laden ganz herzlich zur ErÃ¶ffnung unserer ersten grÃ¶ÃŸeren Milonga nach
  Schwerin ein! &#8220;La Gaviota&#8221; haben wir sie genannt\,  die MÃ¶we\
 ,  von denen es in Schwerin auch so einige gibt\,  frÃ¶hlich und frei\,  kÃ
 ¼nden[..]\nhttps://www.tangoammeer.de/events/eroeffnung-milonga-la-gaviota-
 schwerin/
URL:https://www.tangoammeer.de/events/eroeffnung-milonga-la-gaviota-schwerin/
END:VEVENT
END:VCALENDAR