BEGIN:VCALENDAR
VERSION:2.0
PRODID:-//eventon.com NONSGML v1.0//EN
CALSCALE:GREGORIAN
METHOD:PUBLISH
BEGIN:VEVENT
UID:69e51e1d4b871
DTSTAMP:20260419T182533Z
DTSTART:20221001T170000Z
DTEND:20221001T200000Z
LOCATION:Anmut.Bar HansenstraÃŸe 1\,  18273 GÃ¼strow\,  Deutschland
SUMMARY:MILONGA MIT "Gabriel Battaglia & Tomas Diaz "
DESCRIPTION:MILONGA &#038; TANGO KONZERT MIT MUSIK VON Tomas Diaz &#038; Ga
 briel Battaglia Von 19.00 bis 22.00 Uhr / Abendkasse 18\, - â‚¬ pro Person 
 Anmeldung unter 0172 467 367 0 www.anmut.bar/tango HansenstraÃŸe 1 18273 GÃ
 ¼strow\nhttps://www.tangoammeer.de/events/milonga-mit-gabriel-battaglia-tom
 as-diaz/
URL:https://www.tangoammeer.de/events/milonga-mit-gabriel-battaglia-tomas-diaz/
END:VEVENT
END:VCALENDAR