BEGIN:VCALENDAR
VERSION:2.0
PRODID:-//eventon.com NONSGML v1.0//EN
CALSCALE:GREGORIAN
METHOD:PUBLISH
BEGIN:VEVENT
UID:69e5e1ee1a547
DTSTAMP:20260420T082102Z
DTSTART:20220824T173000Z
DTEND:20220824T183000Z
LOCATION:Säulengebäude am Altstädtischen Markt Schwerin Am Markt 1\,  19055 Schwerin
SUMMARY:Practica im Säulengebäude
DESCRIPTION:Jeden Mittwoch im Saeulengebaeude in Schwerin am Markt Practica
  mit anschliessendem freiem Tanzen! 19.30 &#8211; 20.45 Uhr Pracitca mit we
 chselnden Lehrern (Dorothee\,  Andrew\,  Gustavo) Danach: Tanzen! mehr Info
  unter www.tango-am-see.de\nhttps://www.tangoammeer.de/events/practica-im-s
 aeulengerbaeude/
URL:https://www.tangoammeer.de/events/practica-im-saeulengerbaeude/
END:VEVENT
END:VCALENDAR