BEGIN:VCALENDAR
VERSION:2.0
PRODID:-//eventon.com NONSGML v1.0//EN
CALSCALE:GREGORIAN
METHOD:PUBLISH
BEGIN:VEVENT
UID:69ea6173ebe81
DTSTAMP:20260423T181411Z
DTSTART:20221221T193000Z
DTEND:20221221T225000Z
LOCATION:UNI - Sporthalle Justus-von-Liebig-Weg 3\,  Rostock
SUMMARY:TANGOWERKSTATT
DESCRIPTION:Die regelmäßige Praktilonga (jeden Mittwoch\,  Sonntag 14-tä
 gig) für alle Tänzer*innen und alle Niveaus &#8211; geeignet zum Ausprobi
 eren\,  Üben oder einfach schön miteinander tanzen..auch ideal zum Schnup
 pern oder WiedereinsteigenTangolehrer sind anwesend und für Eure Fragen of
 fen &#8211; wir legen Euch einen schönen Musikmix auf und schaffen Euch ei
 ne gemütliche Atmosphärebringt Euch[..]\nhttps://www.tangoammeer.de/event
 s/tangowerkstatt-15/
URL:https://www.tangoammeer.de/events/tangowerkstatt-15/
END:VEVENT
END:VCALENDAR