BEGIN:VCALENDAR
VERSION:2.0
PRODID:-//eventon.com NONSGML v1.0//EN
CALSCALE:GREGORIAN
METHOD:PUBLISH
BEGIN:VEVENT
UID:69ecd9daa6847
DTSTAMP:20260425T151226Z
DTSTART:20230323T180000Z
DTEND:20230323T210000Z
LOCATION:Diele Mengstraße 41\,  23552 Lübeck
SUMMARY:Liubice Tango
DESCRIPTION:Aus Aegidientango wird Liubice Tango! (ab 2.6.2022 kleine Somme
 rpause während der Laufzeit der wöchentlichen Open-Air-Milonga an der Obe
 rtrave in Lübeck). Als DJs wechseln sich Thasmo und Martin ab. Beide legen
  abwechslungsreich auf\,  quer durch die gesamte Geschichte des Tango Argen
 tino &#8211; oder auch darüber hinaus. Gegliedert in Tandas\,  meist ohne[
 ..]\nhttps://www.tangoammeer.de/events/liubice-tango-2/var/ri-2.l-L1
URL:https://www.tangoammeer.de/events/liubice-tango-2/var/ri-2.l-L1
END:VEVENT
END:VCALENDAR