BEGIN:VCALENDAR
VERSION:2.0
PRODID:-//eventon.com NONSGML v1.0//EN
CALSCALE:GREGORIAN
METHOD:PUBLISH
BEGIN:VEVENT
UID:69e5d5c80cf5c
DTSTAMP:20260420T072912Z
DTSTART:20230416T123000Z
DTEND:20230416T153000Z
LOCATION:Tango am See Friedrichstr. 4\,  19055 Schwerin
SUMMARY:Spezial-Workshop Milonga und Tango - Synergie und Musikalität mit Alejandro Hermida und Dorothee Roldan
DESCRIPTION:Sonntag\,  16. April\,  14.30 &#8211; 17.30 Uhr Alejandro Hermi
 da zu Gast bei Tango am See in Schwerin. Alejandro gewann 2007 die &#8220;C
 ampeonata&#8221;\,  die Stadtmeisterschaft von Buenos Aires\,  in der Spart
 e „Milonga“. So habt Ihr also die Möglichkeit bei uns in Schwerin in 
 einem 3-stuendigen Workshop mit viel Zeit und individueller Betreuung[..]\n
 https://www.tangoammeer.de/events/spezial-workshop-milonga-und-tango-synerg
 ie-und-musikalitaet-mit-alejandro-hermida-und-dorothee-roldan/
URL:https://www.tangoammeer.de/events/spezial-workshop-milonga-und-tango-synergie-und-musikalitaet-mit-alejandro-hermida-und-dorothee-roldan/
END:VEVENT
END:VCALENDAR