BEGIN:VCALENDAR
VERSION:2.0
PRODID:-//eventon.com NONSGML v1.0//EN
CALSCALE:GREGORIAN
METHOD:PUBLISH
BEGIN:VEVENT
UID:69e9611385bbe
DTSTAMP:20260423T000019Z
DTSTART:20230809T170000Z
DTEND:20230809T200000Z
LOCATION:Aida Speicher Rostock\,  Hafentreppen
SUMMARY:***UPDATE*** Tangowerkstatt findet statt!
DESCRIPTION:\nhttps://www.tangoammeer.de/events/6433/
URL:https://www.tangoammeer.de/events/6433/
END:VEVENT
END:VCALENDAR