BEGIN:VCALENDAR
VERSION:2.0
PRODID:-//eventon.com NONSGML v1.0//EN
CALSCALE:GREGORIAN
METHOD:PUBLISH
BEGIN:VEVENT
UID:69e97a34a8759
DTSTAMP:20260423T014732Z
DTSTART:20230601T163000Z
DTEND:20230601T200000Z
LOCATION:open air Tanzfläche vor dem Funambules HL Obertrave\,   Lübeck
SUMMARY:Openair-Milonga an der Obertrave
DESCRIPTION:Tango-Open-Air in Lübeck an der Obertrave direkt am Wasser! Je
 den Donnerstag ab 18:30h\,  außer wenn es regnet.Wir sind wieder zu finden
  auf der Sondernutzungsfläche gegenüber der Gaststätte &#8220;Funambules
 &#8221;\,  Obertrave\,  Ecke Marlesgrube\,  direkt am Wasser.Musik und Tanz
  freuen sich über eine Spende zur Durchführung weiterer Veranstaltungen i
 n die Hutkasse! DJ Thasmo[..]\nhttps://www.tangoammeer.de/events/openair-mi
 longa-an-der-obertrave/
URL:https://www.tangoammeer.de/events/openair-milonga-an-der-obertrave/
END:VEVENT
END:VCALENDAR