BEGIN:VCALENDAR
VERSION:2.0
PRODID:-//eventon.com NONSGML v1.0//EN
CALSCALE:GREGORIAN
METHOD:PUBLISH
BEGIN:VEVENT
UID:69e4c3dfe574f
DTSTAMP:20260419T120031Z
DTSTART:20230803T180000Z
DTEND:20230803T210000Z
LOCATION:Hertelsaal im Kunsthaus Neustrelitz Hertelsaal im Kunsthaus\,  Schlossstraße 2\,  17235 Neustrelitz
SUMMARY:Milonga
DESCRIPTION:Milonga\nhttps://www.tangoammeer.de/events/milonga-4/
URL:https://www.tangoammeer.de/events/milonga-4/
END:VEVENT
END:VCALENDAR