BEGIN:VCALENDAR
VERSION:2.0
PRODID:-//eventon.com NONSGML v1.0//EN
CALSCALE:GREGORIAN
METHOD:PUBLISH
BEGIN:VEVENT
UID:69e73e4b8a487
DTSTAMP:20260421T090723Z
DTSTART:20231007T183000Z
DTEND:20231006T220000Z
LOCATION:Hertelsaal im Kunsthaus Neustrelitz Hertelsaal im Kunsthaus\,  Schlossstraße 2\,  17235 Neustrelitz
SUMMARY:Milonga
DESCRIPTION:Mitbringbuffet\nhttps://www.tangoammeer.de/events/milonga-5/
URL:https://www.tangoammeer.de/events/milonga-5/
END:VEVENT
END:VCALENDAR