BEGIN:VCALENDAR
VERSION:2.0
PRODID:-//eventon.com NONSGML v1.0//EN
CALSCALE:GREGORIAN
METHOD:PUBLISH
BEGIN:VEVENT
UID:69e76aa8bdfa0
DTSTAMP:20260421T121640Z
DTSTART:20241018T190000Z
DTEND:20241020T170000Z
LOCATION:Tango am Meer HRO Tango am Meer\,  Alter Markt 19\,  18055 Rostock
SUMMARY:Diana del Valle & Juan Camerlingo bei Tango am Meer
DESCRIPTION:Ein Wochenende voller Tango! Milongas und Workshops von Freitag
  18. Oktober bis Sonntag 20. Oktober 2024! Mit den großartigen Ausnahme &#
 8211; Lehrern Diana del Valle und Juan Camerlingo! Beide tanzen wie immer e
 ine Show auf der Milonga del Mar am Samstag. Samstag und Sonntag finden die
  begehrten Workshops statt. Diese[..]\nhttps://www.tangoammeer.de/events/di
 ana-del-valle-juan-camerlingo-bei-tango-am-meer-2/
URL:https://www.tangoammeer.de/events/diana-del-valle-juan-camerlingo-bei-tango-am-meer-2/
END:VEVENT
END:VCALENDAR