BEGIN:VCALENDAR
VERSION:2.0
PRODID:-//eventon.com NONSGML v1.0//EN
CALSCALE:GREGORIAN
METHOD:PUBLISH
BEGIN:VEVENT
UID:69e73ea3a02b1
DTSTAMP:20260421T090851Z
DTSTART:20240106T140000Z
DTEND:20240106T210000Z
LOCATION:Hertelsaal im Kunsthaus Neustrelitz Hertelsaal im Kunsthaus\,  Schlossstraße 2\,  17235 Neustrelitz
SUMMARY:Neujahrsmilonga
DESCRIPTION:Neujahrsmilonga\nhttps://www.tangoammeer.de/events/neujahrsmilo
 nga/
URL:https://www.tangoammeer.de/events/neujahrsmilonga/
END:VEVENT
END:VCALENDAR