BEGIN:VCALENDAR
VERSION:2.0
PRODID:-//eventon.com NONSGML v1.0//EN
CALSCALE:GREGORIAN
METHOD:PUBLISH
BEGIN:VEVENT
UID:69e75881d6659
DTSTAMP:20260421T105913Z
DTSTART:20240202T190000Z
DTEND:20240202T225900Z
LOCATION:Ballhaus Goldfisch Bahnhofstraße 44\,  17489 Greifswald
SUMMARY:Milonga
DESCRIPTION:Milonga\nhttps://www.tangoammeer.de/events/milonga-18/
URL:https://www.tangoammeer.de/events/milonga-18/
END:VEVENT
END:VCALENDAR