BEGIN:VCALENDAR
VERSION:2.0
PRODID:-//eventon.com NONSGML v1.0//EN
CALSCALE:GREGORIAN
METHOD:PUBLISH
BEGIN:VEVENT
UID:69e91d96845a3
DTSTAMP:20260422T191222Z
DTSTART:20240517T170000Z
DTEND:20240517T210000Z
LOCATION:Estación Tango Bahnhofstraße 4\,  23923 Lüdersdorf (Wahrsow)
SUMMARY:Estación Tango
DESCRIPTION:Einmal monatlich sind alle Tango-Interessierten dazu eingeladen
 \,  in aller Ruhe und außerhalb des Rahmens einer Milonga ihr Können und 
 ihre Ideen auf einer gemeinsamen Practica zu vertiefen. Auch und vor allem 
 Einsteiger sind herzlich willkommen. Im ehemaligen Empfangsgebäude des Lü
 dersdorfer Bahnhofes stehen zwei getrennte Flächen zur Verfügung\,  die e
 ine etwas[..]\nhttps://www.tangoammeer.de/events/esatacion-tango/var/ri-2.l
 -L1
URL:https://www.tangoammeer.de/events/esatacion-tango/var/ri-2.l-L1
END:VEVENT
END:VCALENDAR