BEGIN:VCALENDAR
VERSION:2.0
PRODID:-//eventon.com NONSGML v1.0//EN
CALSCALE:GREGORIAN
METHOD:PUBLISH
BEGIN:VEVENT
UID:69e9350318d22
DTSTAMP:20260422T205219Z
DTSTART:20240301T190000Z
DTEND:20240301T225900Z
LOCATION:Ballhaus Goldfisch Bahnhofstraße 44\,  17489 Greifswald
SUMMARY:Milonga
DESCRIPTION:Milonga\nhttps://www.tangoammeer.de/events/milonga-20/
URL:https://www.tangoammeer.de/events/milonga-20/
END:VEVENT
END:VCALENDAR