BEGIN:VCALENDAR
VERSION:2.0
PRODID:-//eventon.com NONSGML v1.0//EN
CALSCALE:GREGORIAN
METHOD:PUBLISH
BEGIN:VEVENT
UID:69e4dbef4716c
DTSTAMP:20260419T134311Z
DTSTART:20240501T170000Z
DTEND:20240501T203000Z
LOCATION:Tango am Meer HRO Tango am Meer\,  Alter Markt 19\,  18055 Rostock
SUMMARY:Tangowerkstatt - UPDATE -
DESCRIPTION:Die Tangowerkstatt &#8220;Spezial&#8221; beginnt bereits um 19:
 00 Uhr. Feine Tandas\,  &#8220;serviert&#8221; von Michael\,  laden zum Tan
 z in den Sommer. Wer mag\,  bringt ein leeres &#8220;Becherchen&#8221; mit&
 #8230; .\nhttps://www.tangoammeer.de/events/tangowerkstatt-update/
URL:https://www.tangoammeer.de/events/tangowerkstatt-update/
END:VEVENT
END:VCALENDAR