BEGIN:VCALENDAR
VERSION:2.0
PRODID:-//eventon.com NONSGML v1.0//EN
CALSCALE:GREGORIAN
METHOD:PUBLISH
BEGIN:VEVENT
UID:69e73e50e9553
DTSTAMP:20260421T090728Z
DTSTART:20240503T180000Z
DTEND:20240503T215900Z
LOCATION:Ballhaus Goldfisch Bahnhofstraße 44\,  17489 Greifswald
SUMMARY:Milonga
DESCRIPTION:Milonga\nhttps://www.tangoammeer.de/events/milonga-26/
URL:https://www.tangoammeer.de/events/milonga-26/
END:VEVENT
END:VCALENDAR