BEGIN:VCALENDAR
VERSION:2.0
PRODID:-//eventon.com NONSGML v1.0//EN
CALSCALE:GREGORIAN
METHOD:PUBLISH
BEGIN:VEVENT
UID:69e73b576241c
DTSTAMP:20260421T085447Z
DTSTART:20240614T190000Z
DTEND:20240616T170000Z
LOCATION:Tango am Meer HRO Tango am Meer\,  Alter Markt 19\,  18055 Rostock
SUMMARY:Susanne Opitz bei Tango am Meer in Rostock
DESCRIPTION:Ein Wochenende voller Tango! Milongas\,  Seminare und Workshops
  von Freitag 14.6. bis Sonntag 16.6.2024! Mit der brillianten &#8211; Lehre
 rin Susanne Opitz ! Milongas beginnen um 21 Uhr am Freitag und Samstag\,  S
 amstag und Sonntag finden die begehrten Workshops statt. Diese Wochenenden 
 bei Tango am Meer sind schnell ausgebucht. Informiert Euch[..]\nhttps://www
 .tangoammeer.de/events/susanne-opitz-bei-tango-am-meer-in-rostock/
URL:https://www.tangoammeer.de/events/susanne-opitz-bei-tango-am-meer-in-rostock/
END:VEVENT
END:VCALENDAR