BEGIN:VCALENDAR
VERSION:2.0
PRODID:-//eventon.com NONSGML v1.0//EN
CALSCALE:GREGORIAN
METHOD:PUBLISH
BEGIN:VEVENT
UID:69e640cfb1135
DTSTAMP:20260420T150551Z
DTSTART:20240816T150000Z
DTEND:20240818T110000Z
LOCATION:Festwiese Fürstenberg/Havel Schützenstraße\,  16798 Fürstenberg/Havel
SUMMARY:4. Fürstenberger Tangofest
DESCRIPTION:16.08.24: 17 bis 22 Uhr Milonga mit Showtanzpreview\,  DJ: Jör
 g Buntenbach; Showtanz: Pablo Fernandez Gomez und Ludmila Srnkova 17.08.24:
  10 bis 15 Uhr Workshops mit Pablo und Ludmila\,  15 bis 18 Uhr Tangocafé 
 mit Flohmarkt\,  19 bis 24 Uhr Milonga mit Showtanz (Pablo und Ludmila) und
  Livemusik (Federico Aguirre) 18.08.24:[..]\nhttps://www.tangoammeer.de/eve
 nts/4-fuerstenberger-tangofest/
URL:https://www.tangoammeer.de/events/4-fuerstenberger-tangofest/
END:VEVENT
END:VCALENDAR