BEGIN:VCALENDAR
VERSION:2.0
PRODID:-//eventon.com NONSGML v1.0//EN
CALSCALE:GREGORIAN
METHOD:PUBLISH
BEGIN:VEVENT
UID:69e7880245d32
DTSTAMP:20260421T142154Z
DTSTART:20240914T180000Z
DTEND:20240914T215900Z
LOCATION:Haus Eden KÃ¶nigstraÃŸe 25\,  23552 LÃ¼beck
SUMMARY:Milonga Eden
DESCRIPTION:Die Milonga findet jeden 2. Samstag im Monat von 20.00 bis 1.00
  Uhr im Haus Eden in der KÃ¶nigstraÃŸe 25 in der historischen LÃ¼becker Alt
 stadt statt. Der Tanzsaal mit 190mÂ² Schwingboden und 5m DeckenhÃ¶he befind
 et sich im 1. OG des GebÃ¤udes. Aus BrandschutzgrÃ¼nden ist der Saal nur fÃ
 ¼r 90 Personen[..]\nhttps://www.tangoammeer.de/events/milonga-eden-2/
URL:https://www.tangoammeer.de/events/milonga-eden-2/
END:VEVENT
END:VCALENDAR