BEGIN:VCALENDAR
VERSION:2.0
PRODID:-//eventon.com NONSGML v1.0//EN
CALSCALE:GREGORIAN
METHOD:PUBLISH
BEGIN:VEVENT
UID:69e8eea8099c6
DTSTAMP:20260422T155208Z
DTSTART:20241123T183000Z
DTEND:20241123T200000Z
LOCATION:Schloss Vietgest Schloßstraße 4\,  18279 Vietgest
SUMMARY:Milonga mit Duo Trovero
DESCRIPTION:Wenn Duo Trovero\,  mit Hendrik Leßmann am Bandoneón und Mart
 ín Torres-Godoy am Flügel\,  zum Tanz aufspielt\,  bleiben keine Füße r
 uhig &#8211; auch nicht bei den Zuhörern. Es erklingt ein abwechslungsreic
 her Mix aus Tango-Klassikern sämtlicher Epochen\,  ergänzt durch sympathi
 sche Non-Tango-Exkursionen. Wichtig ist den beiden Musikern dabei ein guter
  Groove\,  denn diese[..]\nhttps://www.tangoammeer.de/events/milonga-mit-du
 o-trovero/
URL:https://www.tangoammeer.de/events/milonga-mit-duo-trovero/
END:VEVENT
END:VCALENDAR