BEGIN:VCALENDAR
VERSION:2.0
PRODID:-//eventon.com NONSGML v1.0//EN
CALSCALE:GREGORIAN
METHOD:PUBLISH
BEGIN:VEVENT
UID:69e91c303adc6
DTSTAMP:20260422T190624Z
DTSTART:20241009T183000Z
DTEND:20241009T215900Z
LOCATION:Universitätssporthalle Am Waldessaum Am Waldessaum 23 a\,  18069 Rostock
SUMMARY:TANGOWERKSTATT
DESCRIPTION:ACHTUNG!! HEUTE ANDERER ORT! Universitätssporthalle Am Waldess
 aum Sporthalle Ost Am Waldessaum 23 a&nbsp;18069 Rostock Die regelmäßige 
 Praktilonga (jeden Mittwoch\,  Sonntag 14-tägig) für alle Tänzer*innen u
 nd alle Niveaus &#8211; geeignet zum Ausprobieren\,  Üben oder einfach sch
 ön miteinander tanzen..auch ideal zum Schnuppern oder WiedereinsteigenTang
 olehrer sind anwesend und für Eure Fragen offen &#8211;[..]\nhttps://www.t
 angoammeer.de/events/tangowerkstatt-22/
URL:https://www.tangoammeer.de/events/tangowerkstatt-22/
END:VEVENT
END:VCALENDAR