BEGIN:VCALENDAR
VERSION:2.0
PRODID:-//eventon.com NONSGML v1.0//EN
CALSCALE:GREGORIAN
METHOD:PUBLISH
BEGIN:VEVENT
UID:69e80265ca22b
DTSTAMP:20260421T230405Z
DTSTART:20250325T173000Z
DTEND:20250325T190000Z
LOCATION:Stadtmitte
SUMMARY:TANGO ARGENTINO LERNEN!
DESCRIPTION:✨ Entdeckt die Magie des Tango Argentino! ✨ Habt ihr Lust a
 uf einen Tanz voller Leidenschaft und Eleganz? Wollt ihr die ersten Schritt
 e wagen oder eure Kenntnisse vertiefen? Dann seid ihr bei uns genau richtig
 ! 📅 Wann? Jeden Dienstag ab 18:30 Uhr. 💃 Was erwartet euch? Eine Einf
 ührung in die[..]\nhttps://www.tangoammeer.de/events/tango-argentino-lerne
 n-copy-copy/
URL:https://www.tangoammeer.de/events/tango-argentino-lernen-copy-copy/
END:VEVENT
END:VCALENDAR