BEGIN:VCALENDAR
VERSION:2.0
PRODID:-//eventon.com NONSGML v1.0//EN
CALSCALE:GREGORIAN
METHOD:PUBLISH
BEGIN:VEVENT
UID:69e617a4e0078
DTSTAMP:20260420T121012Z
DTSTART:20251129T163000Z
DTEND:20251129T203000Z
LOCATION:Concordia HL Hirschpaß 27a\,  23564 Lübeck
SUMMARY:Tardecita Concordia
DESCRIPTION:Freut Euch auf herzliche Stimmung\,  einen wunderschönen Schwi
 ngboden mit viel Platz zum Tanzen und einen super Sound. Parkplätze findet
  Ihr hinter dem Gebäude und auch ausreichend in den umliegenden Straßen. 
 Tanzbeitrag: 10€/Person &nbsp;\nhttps://www.tangoammeer.de/events/tardeci
 ta-concordia/
URL:https://www.tangoammeer.de/events/tardecita-concordia/
END:VEVENT
END:VCALENDAR