BEGIN:VCALENDAR
VERSION:2.0
PRODID:-//eventon.com NONSGML v1.0//EN
CALSCALE:GREGORIAN
METHOD:PUBLISH
BEGIN:VEVENT
UID:69e91af57ba6d
DTSTAMP:20260422T190109Z
DTSTART:20250914T160000Z
DTEND:20250914T190000Z
LOCATION:Aida Speicher Rostock\,  Hafentreppen
SUMMARY:Open Air Milonga am Ufer der Warnow (Copy) (Copy)
DESCRIPTION:Ort: Hafentreppen (54\, 0936849\,  12\, 1442699)\,  Am Strande 
 3d\,  18055 Rostock | Gastgeber/DJ: Brigitte &amp; Michael | Musik: Tanda-M
 ix aus traditionellen und non-/neo Stücken | Eintritt: Spendenbasis | Vera
 nstalter: bellatanda Witterungsbedingter Ausfall wird hier im Kalender beka
 nntgegeben!\nhttps://www.tangoammeer.de/events/open-air-milonga-am-ufer-der
 -warnow-copy-copy/
URL:https://www.tangoammeer.de/events/open-air-milonga-am-ufer-der-warnow-copy-copy/
END:VEVENT
END:VCALENDAR