BEGIN:VCALENDAR
VERSION:2.0
PRODID:-//eventon.com NONSGML v1.0//EN
CALSCALE:GREGORIAN
METHOD:PUBLISH
BEGIN:VEVENT
UID:69e8ee50df155
DTSTAMP:20260422T155040Z
DTSTART:20250521T170000Z
DTEND:20250521T181500Z
LOCATION:UNI Campus Ulmenstr. 69 Hauptgebäude (Eingang vorne und von hinten) Ulmenstraße 69\,  18057 Rostock
SUMMARY:OFFENER TANGOKURS für fortgeschrittene Tänzer:innen
DESCRIPTION:OFFENER TANGOKURS für fortgeschrittene Tänzer:innen immer Mit
 twochs von 19:00-20:15 Uhr Info unter www.tangoammeer.de/kurse ab 10€ pro
  Person pro Stunde Preiseeinen Raum für Kinder zum Spielen gibt es gleich 
 neben dem Tanzsaal alle Kurse bei Tango am Meer sind und bleiben offen\,  d
 as heißt\,  Ihr könnt jederzeit dazukommen\,  oder einfach mal[..]\nhttps
 ://www.tangoammeer.de/events/offener-tangokurs-fuer-fortgeschrittene-taenze
 rinnen-17/
URL:https://www.tangoammeer.de/events/offener-tangokurs-fuer-fortgeschrittene-taenzerinnen-17/
END:VEVENT
END:VCALENDAR