BEGIN:VCALENDAR
VERSION:2.0
PRODID:-//eventon.com NONSGML v1.0//EN
CALSCALE:GREGORIAN
METHOD:PUBLISH
BEGIN:VEVENT
UID:69e8a7302bd4b
DTSTAMP:20260422T104712Z
DTSTART:20250521T183000Z
DTEND:20250521T215900Z
LOCATION:UNI Campus Ulmenstr. 69 Hauptgebäude (Eingang vorne und von hinten) Ulmenstraße 69\,  18057 Rostock
SUMMARY:TANGOWERKSTATT
DESCRIPTION:Die regelmäßige Praktilonga (jeden Mittwoch\,  Sonntag 14-tä
 gig) für alle Tänzer*innen und alle Niveaus &#8211; geeignet zum Ausprobi
 eren\,  Üben oder einfach schön miteinander tanzen..auch ideal zum Schnup
 pern oder WiedereinsteigenTangolehrer sind anwesend und für Eure Fragen of
 fen &#8211; wir legen Euch einen schönen Musikmix auf und schaffen Euch ei
 ne gemütliche Atmosphärebringt Euch[..]\nhttps://www.tangoammeer.de/event
 s/tangowerkstatt-27/
URL:https://www.tangoammeer.de/events/tangowerkstatt-27/
END:VEVENT
END:VCALENDAR