BEGIN:VCALENDAR
VERSION:2.0
PRODID:-//eventon.com NONSGML v1.0//EN
CALSCALE:GREGORIAN
METHOD:PUBLISH
BEGIN:VEVENT
UID:69e768cf02650
DTSTAMP:20260421T120847Z
DTSTART:20250910T183000Z
DTEND:20250910T215900Z
LOCATION:Tango am Meer HRO Tango am Meer\,  Alter Markt 19\,  18055 Rostock
SUMMARY:TANGOWERKSTATT
DESCRIPTION:Die regelmäßige Praktilonga für alle Tänzer*innen und alle 
 Niveaus &#8211; geeignet zum Ausprobieren\,  Üben oder einfach schön mite
 inander tanzen..auch ideal zum Schnuppern oder WiedereinsteigenTangolehrer 
 sind anwesend und für Eure Fragen offen &#8211; wir legen Euch einen schö
 nen Musikmix auf und schaffen Euch eine gemütliche Atmosphärebringt Euch 
 gerne Getränke/Knabbereien mit (und[..]\nhttps://www.tangoammeer.de/events
 /tangowerkstatt-28/
URL:https://www.tangoammeer.de/events/tangowerkstatt-28/
END:VEVENT
END:VCALENDAR