BEGIN:VCALENDAR
VERSION:2.0
PRODID:-//eventon.com NONSGML v1.0//EN
CALSCALE:GREGORIAN
METHOD:PUBLISH
BEGIN:VEVENT
UID:69e79753702c0
DTSTAMP:20260421T152715Z
DTSTART:20250707T160000Z
DTEND:20250707T180000Z
LOCATION:Hertelsaal im Kunsthaus Neustrelitz Hertelsaal im Kunsthaus\,  Schlossstraße 2\,  17235 Neustrelitz
SUMMARY:Montags Milonga
DESCRIPTION:ab 18:00 Unterricht\,  ab 19:00 freies Tanzen auf Spendenbasis\
 nhttps://www.tangoammeer.de/events/montags-milonga/
URL:https://www.tangoammeer.de/events/montags-milonga/
END:VEVENT
END:VCALENDAR