BEGIN:VCALENDAR
VERSION:2.0
PRODID:-//eventon.com NONSGML v1.0//EN
CALSCALE:GREGORIAN
METHOD:PUBLISH
BEGIN:VEVENT
UID:69e7e6ece388b
DTSTAMP:20260421T210652Z
DTSTART:20250820T170000Z
DTEND:20250820T200000Z
LOCATION:Aida Speicher Rostock\,  Hafentreppen
SUMMARY:Tangowerkstatt Open Air
DESCRIPTION:Ort: Hafentreppen (54\, 0936849\,  12\, 1442699)\,  Am Strande 
 3d\,  18055 Rostock | Gastgeber/DJ: Brigitte &amp; Michael | Musik: Tanda-M
 ix aus traditionellen und non-/neo Stücken | Eintritt: Spendenbasis | Vera
 nstalter: bellatanda Witterungsbedingter Ausfall wird hier im Kalender beka
 nntgegeben!\nhttps://www.tangoammeer.de/events/tangowerkstatt-open-air-3/
URL:https://www.tangoammeer.de/events/tangowerkstatt-open-air-3/
END:VEVENT
END:VCALENDAR