BEGIN:VCALENDAR
VERSION:2.0
PRODID:-//eventon.com NONSGML v1.0//EN
CALSCALE:GREGORIAN
METHOD:PUBLISH
BEGIN:VEVENT
UID:69e7fd5731794
DTSTAMP:20260421T224231Z
DTSTART:20250827T160000Z
DTEND:20250827T190000Z
LOCATION:Aida Speicher Rostock\,  Hafentreppen
SUMMARY:Tangowerkstatt Open Air
DESCRIPTION:Ort: Hafentreppen (54\, 0936849\,  12\, 1442699)\,  Am Strande 
 3d\,  18055 Rostock | Gastgeber/DJ: Brigitte &#038; Michael | Musik: Tanda-
 Mix aus traditionellen und non-/neo Stücken | Eintritt: Spendenbasis | Ver
 anstalter: bellatanda Witterungsbedingter Ausfall wird hier im Kalender bek
 anntgegeben!\nhttps://www.tangoammeer.de/events/tangowerkstatt-open-air-4/
URL:https://www.tangoammeer.de/events/tangowerkstatt-open-air-4/
END:VEVENT
END:VCALENDAR