BEGIN:VCALENDAR
VERSION:2.0
PRODID:-//eventon.com NONSGML v1.0//EN
CALSCALE:GREGORIAN
METHOD:PUBLISH
BEGIN:VEVENT
UID:69e753a50e9e3
DTSTAMP:20260421T103829Z
DTSTART:20251129T170000Z
DTEND:20251129T210000Z
LOCATION:Waldemar Hof Waldemarstraße 33\,  18057 Rostock
SUMMARY:Milonga `Rodolfo`
DESCRIPTION:Wir laden euch herzlich ein\,  nach traditioneller Tangomusik g
 enuss- und respektvoll in einer entspannten Ronda zu tanzen. DJ: Wiebke\nht
 tps://www.tangoammeer.de/events/milonga-rodolfo-17/
URL:https://www.tangoammeer.de/events/milonga-rodolfo-17/
END:VEVENT
END:VCALENDAR