BEGIN:VCALENDAR
VERSION:2.0
PRODID:-//eventon.com NONSGML v1.0//EN
CALSCALE:GREGORIAN
METHOD:PUBLISH
BEGIN:VEVENT
UID:69e782c6b7eb5
DTSTAMP:20260421T135934Z
DTSTART:20260501T180000Z
DTEND:20260501T215900Z
LOCATION:Andreas-Wilms-Haus HL Hüxtertorallee 1\,  23564 Lübeck
SUMMARY:Milonga - Auftakt zum Workshop-Wochenende mit Susanne Opitz & Rafael Busch
DESCRIPTION:TANZEN IN DEN MAI Gastgeberin des Abends in Lübeck ist Sabine 
 Metro-Beushausen aus Dortmund. Sabine verführt Euch mit Ihrem sehr feinen
  100% traditionellen Mix den ganzen Abend und die ganze Nacht heiter und ge
 nussvoll in den Mai zu tanzen. &nbsp; Das Team von Tango am Meer freut sich
  auf einen schönen[..]\nhttps://www.tangoammeer.de/events/milonga-auftakt-
 zum-workshop-wochenende-mit-susanne-opitz-rafael-busch/
URL:https://www.tangoammeer.de/events/milonga-auftakt-zum-workshop-wochenende-mit-susanne-opitz-rafael-busch/
END:VEVENT
END:VCALENDAR