BEGIN:VCALENDAR
VERSION:2.0
PRODID:-//eventon.com NONSGML v1.0//EN
CALSCALE:GREGORIAN
METHOD:PUBLISH
BEGIN:VEVENT
UID:69e796e5e9805
DTSTAMP:20260421T152525Z
DTSTART:20260502T190000Z
DTEND:20260502T215900Z
LOCATION:Andreas-Wilms-Haus HL Hüxtertorallee 1\,  23564 Lübeck
SUMMARY:Milonga del Mar - Showtänze Susanne Opitz & Rafael Busch
DESCRIPTION:Torsten Moebis El Gato Tango aus dem Werk36 Berlin ist Euer G
 astgeber. Seinen legendär schön tanzbaren Mix und die Show von Susanne &a
 mp; Rafael solltet Ihr nicht verpassen!! &nbsp; Das Team von Tango am Meer 
 freut sich auf einen schönen Abend mit Euch!! Anmeldung zum Event mit Susa
 nne und Rafael &nbsp; Immer[..]\nhttps://www.tangoammeer.de/events/milonga-
 del-mar-showtaenze-susanne-opitz-rafael-busch-2/
URL:https://www.tangoammeer.de/events/milonga-del-mar-showtaenze-susanne-opitz-rafael-busch-2/
END:VEVENT
END:VCALENDAR